BEGIN:VCALENDAR
VERSION:2.0
PRODID:-//Sveriges Föreningar - ECPv6.15.20//NONSGML v1.0//EN
CALSCALE:GREGORIAN
METHOD:PUBLISH
X-WR-CALNAME:Sveriges Föreningar
X-ORIGINAL-URL:https://sverigesforeningar.se
X-WR-CALDESC:Händelser för Sveriges Föreningar
REFRESH-INTERVAL;VALUE=DURATION:PT1H
X-Robots-Tag:noindex
X-PUBLISHED-TTL:PT1H
BEGIN:VTIMEZONE
TZID:Europe/Stockholm
BEGIN:DAYLIGHT
TZOFFSETFROM:+0100
TZOFFSETTO:+0200
TZNAME:CEST
DTSTART:20230326T010000
END:DAYLIGHT
BEGIN:STANDARD
TZOFFSETFROM:+0200
TZOFFSETTO:+0100
TZNAME:CET
DTSTART:20231029T010000
END:STANDARD
BEGIN:DAYLIGHT
TZOFFSETFROM:+0100
TZOFFSETTO:+0200
TZNAME:CEST
DTSTART:20240331T010000
END:DAYLIGHT
BEGIN:STANDARD
TZOFFSETFROM:+0200
TZOFFSETTO:+0100
TZNAME:CET
DTSTART:20241027T010000
END:STANDARD
BEGIN:DAYLIGHT
TZOFFSETFROM:+0100
TZOFFSETTO:+0200
TZNAME:CEST
DTSTART:20250330T010000
END:DAYLIGHT
BEGIN:STANDARD
TZOFFSETFROM:+0200
TZOFFSETTO:+0100
TZNAME:CET
DTSTART:20251026T010000
END:STANDARD
END:VTIMEZONE
BEGIN:VEVENT
DTSTART;VALUE=DATE:20241215
DTEND;VALUE=DATE:20241216
DTSTAMP:20260421T103644
CREATED:20240910T165408Z
LAST-MODIFIED:20240910T165524Z
UID:2512-1734220800-1734307199@sverigesforeningar.se
SUMMARY:Sista dag att nominera till Sveriges Föreningsvänligaste kommun
DESCRIPTION:I dag är det sista dagen att nominera till Sveriges Föreningsvänligaste kommun 2024. \nMer info hittas här -> https://sverigesforeningar.se/nominera-sveriges-foreningsvanligaste-kommun/  
URL:https://sverigesforeningar.se/event/sista-dag-att-nominera/
END:VEVENT
END:VCALENDAR