BEGIN:VCALENDAR
VERSION:2.0
PRODID:-//Sveriges Föreningar - ECPv6.15.20//NONSGML v1.0//EN
CALSCALE:GREGORIAN
METHOD:PUBLISH
X-WR-CALNAME:Sveriges Föreningar
X-ORIGINAL-URL:https://sverigesforeningar.se
X-WR-CALDESC:Händelser för Sveriges Föreningar
REFRESH-INTERVAL;VALUE=DURATION:PT1H
X-Robots-Tag:noindex
X-PUBLISHED-TTL:PT1H
BEGIN:VTIMEZONE
TZID:Europe/Stockholm
BEGIN:DAYLIGHT
TZOFFSETFROM:+0100
TZOFFSETTO:+0200
TZNAME:CEST
DTSTART:20220327T010000
END:DAYLIGHT
BEGIN:STANDARD
TZOFFSETFROM:+0200
TZOFFSETTO:+0100
TZNAME:CET
DTSTART:20221030T010000
END:STANDARD
BEGIN:DAYLIGHT
TZOFFSETFROM:+0100
TZOFFSETTO:+0200
TZNAME:CEST
DTSTART:20230326T010000
END:DAYLIGHT
BEGIN:STANDARD
TZOFFSETFROM:+0200
TZOFFSETTO:+0100
TZNAME:CET
DTSTART:20231029T010000
END:STANDARD
BEGIN:DAYLIGHT
TZOFFSETFROM:+0100
TZOFFSETTO:+0200
TZNAME:CEST
DTSTART:20240331T010000
END:DAYLIGHT
BEGIN:STANDARD
TZOFFSETFROM:+0200
TZOFFSETTO:+0100
TZNAME:CET
DTSTART:20241027T010000
END:STANDARD
END:VTIMEZONE
BEGIN:VEVENT
DTSTART;TZID=Europe/Stockholm:20230414T083000
DTEND;TZID=Europe/Stockholm:20230414T093000
DTSTAMP:20260422T015949
CREATED:20230403T093603Z
LAST-MODIFIED:20230403T094956Z
UID:2298-1681461000-1681464600@sverigesforeningar.se
SUMMARY:Varför blev Örebro Sveriges föreningsvänligaste kommun 2022?
DESCRIPTION:Mer än 10 kommuner nominerades till att bli utsedd till Sveriges föreningsvänligaste kommun 2022. När utvärderingarna var gjorda stod Örebro kommun som segrare. Konkurrensen var som brukligt hård. \nVad är det då som utmärker Örebro i förhållande till andra kommuner denna gång? Vad var det som gjorde att Örebro blev den första kommun att få utmärkelsen för andra gången sedan priset började delas ut 2010? \nAnna Fogel\, samordnare civilsamhällesfrågor i Örebro kommun\, och Helena Astvald\, ordförande Örebro Föreningsråd berättar om hur samverkansresan startade och utvecklades\, utmaningar och lösningar på vägen och vad som händer nu. \nFrukostmötet äger rum den 14 april 2023 kl. 08.30 – 09.30 digitalt via Zoom\nFrukostmötet är kostnadsfritt. \nAnmälan senast den 12 april görs HÄR \nVälkomna till ett inspirerande och lärorikt möte.
URL:https://sverigesforeningar.se/event/varfor-blev-orebro-sveriges-foreningsvanligaste-kommun-2022/
LOCATION:Digitalt/Zoom
CATEGORIES:Seminarium
ATTACH;FMTTYPE=image/jpeg:https://sverigesforeningar.se/wp-content/uploads/krona-e1680514406749.jpg
END:VEVENT
END:VCALENDAR