BEGIN:VCALENDAR
VERSION:2.0
PRODID:-//Sveriges Föreningar - ECPv6.15.20//NONSGML v1.0//EN
CALSCALE:GREGORIAN
METHOD:PUBLISH
X-WR-CALNAME:Sveriges Föreningar
X-ORIGINAL-URL:https://sverigesforeningar.se
X-WR-CALDESC:Händelser för Sveriges Föreningar
REFRESH-INTERVAL;VALUE=DURATION:PT1H
X-Robots-Tag:noindex
X-PUBLISHED-TTL:PT1H
BEGIN:VTIMEZONE
TZID:Europe/Stockholm
BEGIN:DAYLIGHT
TZOFFSETFROM:+0100
TZOFFSETTO:+0200
TZNAME:CEST
DTSTART:20240331T010000
END:DAYLIGHT
BEGIN:STANDARD
TZOFFSETFROM:+0200
TZOFFSETTO:+0100
TZNAME:CET
DTSTART:20241027T010000
END:STANDARD
BEGIN:DAYLIGHT
TZOFFSETFROM:+0100
TZOFFSETTO:+0200
TZNAME:CEST
DTSTART:20250330T010000
END:DAYLIGHT
BEGIN:STANDARD
TZOFFSETFROM:+0200
TZOFFSETTO:+0100
TZNAME:CET
DTSTART:20251026T010000
END:STANDARD
BEGIN:DAYLIGHT
TZOFFSETFROM:+0100
TZOFFSETTO:+0200
TZNAME:CEST
DTSTART:20260329T010000
END:DAYLIGHT
BEGIN:STANDARD
TZOFFSETFROM:+0200
TZOFFSETTO:+0100
TZNAME:CET
DTSTART:20261025T010000
END:STANDARD
END:VTIMEZONE
BEGIN:VEVENT
DTSTART;TZID=Europe/Stockholm:20250328T140000
DTEND;TZID=Europe/Stockholm:20250328T170000
DTSTAMP:20260420T231738
CREATED:20250325T160702Z
LAST-MODIFIED:20250325T160702Z
UID:2564-1743170400-1743181200@sverigesforeningar.se
SUMMARY:Civilsamhällets påverkan\, finansiering och praktiska nytta av AI
DESCRIPTION:Inför årsmötet arrangeras en konferens för Sveriges Föreningaras medlemmar. \nTemat för konferensen är Civilsamhällets påverkan\, finansiering och praktiska nytta av AI och har tre huvuddelar \n\nFremia är en av de stora arbetsgivarorganisationerna för civilsamhället. Förutom stöd i de rent organisatoriska förutsättningarna är man också en viktig aktör när det gäller intressepolitiskt arbete och idéburen påverkan. Vad kan vi ta till oss och vad kan vi ge?\nPatrik Schröder\, samhällspolitiskt ansvarig\, Fremia är vår guide.\n\n  \n\n”Staten\, kapitalet eller medborgaren – vem finansierar civilsamhället?” \nDen 27 mars presenteras årets rapport där Giva Sverige och ett antal civilsamhällesorganisationer (där ibland Sveriges Föreningar) visar på förutsättningarna för finansiering av civilsamhället. Med ”Staten\, kapitalet eller medborgaren – vem finansierar civilsamhället?” hoppas man kunna bidra till att organisationer\, beslutsfattare\, företag och andra aktörer med intresse för civilsamhället kan fatta strategiska beslut baserade på goda kunskaper om nuläget och insikter om trender för framtiden.\nVi får en rykande färsk presentation av denna aktuella och viktiga rapport-\nMårten Palmefors\, Giva Sverige\, informerar och berättar.\nAlla pratar om AI – men vad innebär det för föreningarna och dess ledare i vardagen?\nVolontärbyrån har nyligen genomfört ett projekt med inriktning på praktisk användning av AI kopplat till sin verksamhet. Vi får ta del av deras erfarenheter så här långt\,  men också starta en diskussion om hur vi fångar upp behovet och nyttan i våra lokala verksamheter. Vilka utmaningar finns det\, vad kostar det och många fler frågor. I slutändan – hur går vi vidare?\nAnna Snell\, verksamhetschef\, Volontärbyrån leder diskussionen.\n\nKonferensen är kostnadsfri och inbjudan har gått ut till medlemasorganisationerna. \nFrågor: Olle Möller\, ordförande\, info@sverigesforeningar.se
URL:https://sverigesforeningar.se/event/civilsamhallets-paverkan-finansiering-och-praktiska-nytta-av-ai/
LOCATION:Stockholm\, Sverige
CATEGORIES:Medlemsmöte
END:VEVENT
END:VCALENDAR